BEGIN:VCALENDAR
METHOD:PUBLISH
VERSION:2.0
PRODID:-//Eventilla iCal Syndication//NONSGML Liana//EN
BEGIN:VEVENT
UID:9kvwR@eventilla.com
DTSTAMP:20240406T110000Z
DTSTART:20240406T110000Z
DTEND:20240406T123000Z
SUMMARY:Vallilan konepajakierros
DESCRIPTION:Vanhan konepajan alueella Vallilassa käy kuhina ja pöhinä: osin rosoinen miljöö baareineen ja kesäterasseineen on uusien asuinkortteleiden ja liiketalojen ympäröimä\, edelleen muuttuva\, omaleimainen ajanvietekeskittymä ja kaupunginosa.\nSadan vuoden ajan konepajan alue oli ulkopuolisilta suljettu\, 2 000 rautatieläisen työpaikka. Alueella on kaikkiaan seitsemän suojeltua isoa punatiilirakennusta\, jotka on nyt valjastettu uusiokäyttöön\, tai ovat muovautumassa uusiksi.\nKävelykierroksella on kaksi teemaa: alueen rautatiehistoria ja rakennusten uusiokäyttö sekä miljöön rooli elokuvissa. Lisäksi kävelykierroksella tutustutaan palkittuihin asuinkortteleihin. \nKävelyn rakennushistoriallisen osuuden oppaana toimii HI:n jäsen Pirjo Huvila\, joka oli alueen kaavoitusprosessissa mukana 10 vuoden ajan työskennellessään VR:n arkkitehtina. Hän teetti alueesta rakennushistoriaselvitykset\, joiden perusteella alueen suojelutoimet on määritetty.\nKävelykierroksen toinen teema on Vallilan konepaja-alue elokuvien kuvauspaikkana. Kaupunkiopas Juhani Styrman kertoo Kaurismäen elokuvien paikoista alueella.\nKävelykierros kestää noin 1\,5 tuntia. Kävelyn päätteeksi voi jatkaa keskustelua nähdystä suojellussa junahallissa sijaitsevassa Kaurismäen veljesten perustamassa Corona-baarissa.\nKokoontumispaikka: R-kioskin kulma osoitteessa Aleksis Kivenkatu 19 / Konepajankuja 1\nSaavuthan kokoontumispaikalle ajoissa eli klo 13.50 paikkeilla\, jotta pääsemme aloittamaan kierroksen klo 14.00.\nTapahtuma on osallistujille maksuton. Kierrokselle mahtuu 20 henkilöä (enintään 2 hlöä/varaus). Ilmoittaudu mukaan viimeistään kävelykierrosta edeltävänä päivänä\, mikäli tilaa on. Jos ryhmä on ehtinyt tulla täyteen\, voit ilmoittautua jonoon\, jolloin saamme tarvittaessa jonosta mukaan osallistujia peruutusten sattuessa.\nTapahtuma järjestetään yhteistyössä TJS Opintokeskuksen kanssa.\nTervetuloa tutustumaan Vallilan konepajan alueeseen!\n\nIlmoittautumalla tapahtumaan hyväksyn Helsingin Insinöörien tietosuojaselosteen ja tietojeni tallentamisen HI:n rekisteriin.
LOCATION:Vallilan konepajat\, Konepajankuja 1\, Helsinki
URL:http://tapahtumat.helins.fi/vallilan-konepajakierros
END:VEVENT
END:VCALENDAR
