BEGIN:VCALENDAR
METHOD:PUBLISH
VERSION:2.0
PRODID:-//Eventilla iCal Syndication//NONSGML Liana//EN
BEGIN:VEVENT
UID:VD0dl@eventilla.com
DTSTAMP:20240613T160000Z
DTSTART:20240613T160000Z
DTEND:20240613T183000Z
SUMMARY:Suomenlinnan kesäteatteri
DESCRIPTION:Don Quijote ja tragikoomillinen transformaatio\nTervetuloa jälleen kokemaan jo perinteeksi muodostunut kesäteatteriesitys Suomenlinnaan!\nKesän 2024 sekopäisin ja sympaattisin seikkailu tapahtuu Suomenlinnan Hyvän omantunnon linnakkeen muurien sisällä\, jossa taistellaan tuulimyllyjä vastaan haarniskat niskassa ja miekat tanassa ratsastaen.\nRyhmäteatterilaiset eivät vain herätä henkiin maailmankuulun veijariromaanin ikonisia hahmoja\, vaan myös esittelevät yleisölle aivan uudenlaisen teatterin tekemisen metodin: tragikoomillisen transformaation. Metodi ei ole ryhmisläisillä vielä aivan hallussa\, joten mukaan esitykseen ilmestyykin hahmo ihan muusta yhteydestä…\nMiguel de Cervantesin (1547-1616) kahtena niteenä vuosina 1605 ja 1615 ilmestynyt romaani loi perustan koko länsimaiselle romaanitaiteelle. Juha Kukkosen dramatisointi ja ohjaus tuo tämän ajattoman klassikkoteoksen uuteen valoon ja vie sen parodisen tyylin aivan uusille kierroksille.\nTapahtuma on avoin kaikille Insinööriliiton jäsenille ja sen järjestää Helsingin Insinöörit HI ry.\n\nJäsen voi varata teatteriesitykseen 2 lippua.\nEsitystä ei suositella alle 12-vuotiaille.\nEsityksen kesto on väliaikoineen noin 2\,5 tuntia.\nVäliajalla on tarjolla kahvia tai teetä ja pientä suolaista.\n\nLipun hinnat (sisältäen väliaikatarjoilun):\n\nJäsen 15 €\nAvec 20 €\n\nPeruutusehdot: Varaus on lähtökohtaisesti sitova. Jos joudut kuitenkin syystä tai toisesta perumaan varauksen\, tee se viimeistään 6.6.2024. Tämän jälkeen tehdyistä peruutuksista emme palauta maksuja.\nOnko sinulla kysyttävää? Voit olla yhteydessä Helsingin Insinöörien toimistoon joko sähköpostitse tai puhelimitse.\nHelsingin Insinöörit HI ry Jussi Saari\, tapahtumatuottaja 050 522 0402 jussi.saari@helins.fi  Tervetuloa\, nähdään Suomenlinnan kesäteatterissa!\nSiirry varaamaan ja maksamaan lippuja Insinööriliiton sivuille.\n\nIlmoittautumalla Helsingin Insinöörit HI ry:n järjestämään tilaisuuteen sitoudut noudattamaan HI:n turvallisen tilan sääntöjä.\nTapahtumaan ilmoittautumalla hyväksyt myös Insinööriliiton tapahtumahallinnan tietosuojaselosteen ja tietojesi tallentamisen Insinööriliiton rekisteriin.
LOCATION:Suomenlinnan kesäteatteri\, Suomenlinna\, Helsinki\, Suomi
URL:http://tapahtumat.helins.fi/suomenlinnan-kesateatteri-2024
END:VEVENT
END:VCALENDAR
