BEGIN:VCALENDAR
METHOD:PUBLISH
VERSION:2.0
PRODID:-//Eventilla iCal Syndication//NONSGML Liana//EN
BEGIN:VEVENT
UID:ao1ra@eventilla.com
DTSTAMP:20250604T143000Z
DTSTART:20250604T143000Z
DTEND:20250604T160000Z
SUMMARY:Kävelykierros: Pirkkola
DESCRIPTION:”Kuka perkele tänne keskelle mettää tulee!” huusi rakennusmestari\, kun Pirkkolaa rakennettiin 80 vuotta sitten. Vuonna 1939 Oulunkylän korpimetsään pystytettiin itse Alvar Aallon suunnittelema omakotitalo. Muutamia vuosia myöhemmin talon ympärille kohosi ”kuin puolukoina metsään” 150 Ruotsilta lahjaksi saatua puutaloa – syntyi Pirkkolan asuinalue. Asukkaiksi valittiin kotipuutarhanhoidosta kiinnostuneita Karjalan siirtolaisia. 2000-luvun Pirkkola ei pidä ääntä itsestään\, vaan piiloutuu kodikkaana keitaana Keskuspuiston ja aktiivisena sykkivän urheilupuiston kainaloon.\n\nRauhallisella kävelykierroksella kuullaan Pirkkolan tarina ja nähdään\, miten pirkkolalaiset elävät nykypäivää tässä Museoviraston merkittäväksi ympäristöksi luokittelemassa kodossaan.\nKierros alkaa klo 17.30 ja päättyy noin klo 19. Lähtöpaikka on Pirkkolantien ja Viidenrajantien risteyksen tuntumassa\, jossa on raitiovaunun 15 (H0738 ja H0739) sekä bussien 23 ja 53 pysäkit (pysäkki H2227). Auton saa Pirkkolan urheilupuiston parkkipaikalle Pirkkolantielle. Hämeenlinnantien bussipysäkiltä on noin 10 minuutin kävelymatka lähtöpaikalle.\nTuula Pohjalainen toimii kävelykierroksen oppaana.\nTapahtuma on osallistujille maksuton. Kierrokselle mahtuu 20 osallistujaa (enintään 2 hlöä/varaus). Ilmoittaudu mukaan viimeistään kävelykierrosta edeltävänä päivänä. Jos ryhmä on täynnä\, voit ilmoittautua jonoon. Jotta jonosta olisi mahdollista päästä mukaan kierrokselle\, ilmoita myös perumisesta hyvissä ajoin ennen kävelyä\, jotta ehdimme ottaa yhteyttä paikkaa jonottaviin.\nTapahtuma järjestetään yhteistyössä TJS Opintokeskuksen kanssa.\n\nIlmoittautumalla Helsingin Insinöörit HI ry:n tilaisuuteen sitoudut noudattamaan HI:n turvallisen tilan sääntöjä. Samalla hyväksyt Helsingin Insinöörien tietosuojaselosteen ja tietojesi tallentamisen HI:n rekisteriin.
LOCATION:Pirkkola (pysäkki H2227)\, Viidenrajantie 2\, Helsinki
URL:http://tapahtumat.helins.fi/pirkkola-2025-06
END:VEVENT
END:VCALENDAR
