BEGIN:VCALENDAR
METHOD:PUBLISH
VERSION:2.0
PRODID:-//Eventilla iCal Syndication//NONSGML Liana//EN
BEGIN:VEVENT
UID:gedd6@eventilla.com
DTSTAMP:20241007T110000Z
DTSTART:20241007T110000Z
DTEND:20241007T120000Z
SUMMARY:Vierailu Eduskuntataloon (2)
DESCRIPTION:Syyskuun lopulle varattu vierailu Eduskuntataloon oli erittäin suosittu ja kiintiö täyttyi muutamassa tunnissa\, joten järjestämme toisen vierailun Eduskuntataloon maanantaina 7.10.2024 klo 14-15.\nPäivitämme vierailun tarkemmat tiedot sekä saapumisohjeet syyskuun aikana.\nTapahtuma on osallistujille maksuton ja tapahtumaan voi varata kaksi lippua (jäsen + avec).\nTapahtuma järjestetään yhteistyössä TJS Opintokeskuksen kanssa.\nTervetuloa tutustumaan Eduskuntataloon!\n\nIlmoittautumalla Helsingin Insinöörit HI ry:n tilaisuuteen sitoudut noudattamaan HI:n turvallisen tilan sääntöjä.\nSamalla hyväksyt Helsingin Insinöörien tietosuojaselosteen ja tietojesi tallentamisen HI:n rekisteriin.
LOCATION:Eduskuntatalo\, Mannerheimintie 30\, Helsinki
URL:http://tapahtumat.helins.fi/eduskuntatalo-2024-10
END:VEVENT
END:VCALENDAR
